BEGIN:VCALENDAR
VERSION:2.0
PRODID:-//Unbox Resources Sdn Bhd - ECPv6.7.0//NONSGML v1.0//EN
CALSCALE:GREGORIAN
METHOD:PUBLISH
X-WR-CALNAME:Unbox Resources Sdn Bhd
X-ORIGINAL-URL:https://utmunboxresources.com
X-WR-CALDESC:Events for Unbox Resources Sdn Bhd
REFRESH-INTERVAL;VALUE=DURATION:PT1H
X-Robots-Tag:noindex
X-PUBLISHED-TTL:PT1H
BEGIN:VTIMEZONE
TZID:UTC
BEGIN:STANDARD
TZOFFSETFROM:+0000
TZOFFSETTO:+0000
TZNAME:UTC
DTSTART:20240101T000000
END:STANDARD
END:VTIMEZONE
BEGIN:VEVENT
DTSTART;TZID=UTC:20241207T090000
DTEND;TZID=UTC:20241207T170000
DTSTAMP:20260425T041725
CREATED:20240610T063104Z
LAST-MODIFIED:20241106T073725Z
UID:7789-1733562000-1733590800@utmunboxresources.com
SUMMARY:AKKP (PINDAAN) 2022 & PERATURAN-PERATURAN KKP (KERJA PEMBINAAN) (REKA BENTUK DAN PENGURUSAN) 2024
DESCRIPTION:
URL:https://utmunboxresources.com/event/akkp-pindaan-2022-peraturan-kkp-kerja-pembinaan-reka-bentuk-pengurusan-2024/
END:VEVENT
END:VCALENDAR